BEGIN:VCALENDAR
VERSION:2.0
PRODID:-//Il Libraio//NONSGML Event Calendar//IT
BEGIN:VEVENT
UID:6792887a2c7ef
DTSTART:20250227T170000Z
SEQUENCE:0
TRANSP:OPAQUE
LOCATION:https://www.google.com/maps/dir/+Libreria+Ca\\'Libro+Via+Giacomo+M
 atteotti+62++Ciriè+TO/
SUMMARY:Andrea Parodi presenta il suo libro a Ciriè
CLASS:PUBLIC
DESCRIPTION:Scheda dell'evento: https://www.illibraio.it/eventi/andrea-paro
 di-presenta-il-suo-libro-a-cirie-30873/
DTSTAMP:20250123T182042Z
END:VEVENT
END:VCALENDAR